BEGIN:VCALENDAR
VERSION:2.0
PRODID:-//Agile Learning Labs - ECPv6.15.20//NONSGML v1.0//EN
CALSCALE:GREGORIAN
METHOD:PUBLISH
X-ORIGINAL-URL:https://agilelearninglabs.com
X-WR-CALDESC:Events for Agile Learning Labs
REFRESH-INTERVAL;VALUE=DURATION:PT1H
X-Robots-Tag:noindex
X-PUBLISHED-TTL:PT1H
BEGIN:VTIMEZONE
TZID:America/Los_Angeles
BEGIN:DAYLIGHT
TZOFFSETFROM:-0800
TZOFFSETTO:-0700
TZNAME:PDT
DTSTART:20250309T100000
END:DAYLIGHT
BEGIN:STANDARD
TZOFFSETFROM:-0700
TZOFFSETTO:-0800
TZNAME:PST
DTSTART:20251102T090000
END:STANDARD
BEGIN:DAYLIGHT
TZOFFSETFROM:-0800
TZOFFSETTO:-0700
TZNAME:PDT
DTSTART:20260308T100000
END:DAYLIGHT
BEGIN:STANDARD
TZOFFSETFROM:-0700
TZOFFSETTO:-0800
TZNAME:PST
DTSTART:20261101T090000
END:STANDARD
BEGIN:DAYLIGHT
TZOFFSETFROM:-0800
TZOFFSETTO:-0700
TZNAME:PDT
DTSTART:20270314T100000
END:DAYLIGHT
BEGIN:STANDARD
TZOFFSETFROM:-0700
TZOFFSETTO:-0800
TZNAME:PST
DTSTART:20271107T090000
END:STANDARD
END:VTIMEZONE
BEGIN:VTIMEZONE
TZID:America/New_York
BEGIN:DAYLIGHT
TZOFFSETFROM:-0500
TZOFFSETTO:-0400
TZNAME:EDT
DTSTART:20250309T070000
END:DAYLIGHT
BEGIN:STANDARD
TZOFFSETFROM:-0400
TZOFFSETTO:-0500
TZNAME:EST
DTSTART:20251102T060000
END:STANDARD
BEGIN:DAYLIGHT
TZOFFSETFROM:-0500
TZOFFSETTO:-0400
TZNAME:EDT
DTSTART:20260308T070000
END:DAYLIGHT
BEGIN:STANDARD
TZOFFSETFROM:-0400
TZOFFSETTO:-0500
TZNAME:EST
DTSTART:20261101T060000
END:STANDARD
BEGIN:DAYLIGHT
TZOFFSETFROM:-0500
TZOFFSETTO:-0400
TZNAME:EDT
DTSTART:20270314T070000
END:DAYLIGHT
BEGIN:STANDARD
TZOFFSETFROM:-0400
TZOFFSETTO:-0500
TZNAME:EST
DTSTART:20271107T060000
END:STANDARD
END:VTIMEZONE
BEGIN:VEVENT
DTSTART;VALUE=DATE:20260601
DTEND;VALUE=DATE:20260605
DTSTAMP:20260424T083447
CREATED:20260416T233712Z
LAST-MODIFIED:20260417T182708Z
UID:14796-1780272000-1780617599@agilelearninglabs.com
SUMMARY:Certified Scrum Master Workshop June 2026
DESCRIPTION:9:00 AM to 1:00 PM Pacific Time Each Day \nThis online Certified Scrum Master workshop leads to certification through the Scrum Alliance. Enjoy the fully interactive style that Agile Learning Labs is famous for. This is your chance to get your CSM from Chris Sims\, no matter where in the world you are located.  \n\n\n\n$499 Regular Price\n \n$349 For Job Seekers\n\n\n\n\nShare it!
URL:https://agilelearninglabs.com/event/certified-scrum-master-workshop/
LOCATION:Online
END:VEVENT
BEGIN:VEVENT
DTSTART;TZID=America/Los_Angeles:20260604T180000
DTEND;TZID=America/Los_Angeles:20260604T200000
DTSTAMP:20260424T083447
CREATED:20260416T223307Z
LAST-MODIFIED:20260416T223307Z
UID:14793-1780596000-1780603200@agilelearninglabs.com
SUMMARY:Find And Fix Your Agile Anti-Patterns\, With AI! @ Scrum Professionals
DESCRIPTION:Is your team truly agile? Most agile dysfunctions don’t announce themselves. They creep in quietly\, dressed up as process compliance\, feature delivery deadlines\, and people too busy for retrospectives. In this hands-on mini-workshop\, participants will use a diagnostic assessment from Agile Meets AI: A Pragmatic Guide for Modern Teams to surface the anti-patterns most likely to threaten a team’s agility. \nBut diagnosis is only the beginning. In the second half of the session\, we’ll explore how AI can help teams do something with what they find. Moving from “we know the problem” to “here’s our experiment for next sprint.” Participants leave with a prioritized improvement target and practical AI-augmented strategies to act on it immediately. \n \nShare it!
URL:https://agilelearninglabs.com/event/find-and-fix-your-agile-anti-patterns-with-ai-scrum-professionals/
LOCATION:Online
END:VEVENT
BEGIN:VEVENT
DTSTART;TZID=America/Los_Angeles:20260611T120000
DTEND;TZID=America/Los_Angeles:20260611T130000
DTSTAMP:20260424T083447
CREATED:20260417T204613Z
LAST-MODIFIED:20260417T204613Z
UID:14812-1781179200-1781182800@agilelearninglabs.com
SUMMARY:Thursday! Free Online Open Office Hour
DESCRIPTION:This is a chance to ask Chris Sims your questions and get free advice and coaching.  \nShare it!
URL:https://agilelearninglabs.com/event/thursday-free-online-open-office-hour/
LOCATION:Online
END:VEVENT
BEGIN:VEVENT
DTSTART;TZID=America/New_York:20260615T100000
DTEND;TZID=America/New_York:20260615T110000
DTSTAMP:20260424T083447
CREATED:20260311T112934Z
LAST-MODIFIED:20260311T113741Z
UID:14748-1781517600-1781521200@agilelearninglabs.com
SUMMARY:Project Summit * Business Analyst World DC
DESCRIPTION:I’m excited to be presenting Your User Stories Are Too Big! at Project Summit * Business Analyst World Washington DC. \nShare it!
URL:https://agilelearninglabs.com/event/project-summit-business-analyst-world-dc/
END:VEVENT
END:VCALENDAR